BEGIN:VCALENDAR
VERSION:2.0
PRODID:-//Wild Trails - Chattanooga&#039;s trail protection nonprofit - ECPv6.15.18//NONSGML v1.0//EN
CALSCALE:GREGORIAN
METHOD:PUBLISH
X-ORIGINAL-URL:https://wildtrails.org
X-WR-CALDESC:Events for Wild Trails - Chattanooga&#039;s trail protection nonprofit
REFRESH-INTERVAL;VALUE=DURATION:PT1H
X-Robots-Tag:noindex
X-PUBLISHED-TTL:PT1H
BEGIN:VTIMEZONE
TZID:America/New_York
BEGIN:DAYLIGHT
TZOFFSETFROM:-0500
TZOFFSETTO:-0400
TZNAME:EDT
DTSTART:20160313T070000
END:DAYLIGHT
BEGIN:STANDARD
TZOFFSETFROM:-0400
TZOFFSETTO:-0500
TZNAME:EST
DTSTART:20161106T060000
END:STANDARD
BEGIN:DAYLIGHT
TZOFFSETFROM:-0500
TZOFFSETTO:-0400
TZNAME:EDT
DTSTART:20170312T070000
END:DAYLIGHT
BEGIN:STANDARD
TZOFFSETFROM:-0400
TZOFFSETTO:-0500
TZNAME:EST
DTSTART:20171105T060000
END:STANDARD
BEGIN:DAYLIGHT
TZOFFSETFROM:-0500
TZOFFSETTO:-0400
TZNAME:EDT
DTSTART:20180311T070000
END:DAYLIGHT
BEGIN:STANDARD
TZOFFSETFROM:-0400
TZOFFSETTO:-0500
TZNAME:EST
DTSTART:20181104T060000
END:STANDARD
END:VTIMEZONE
BEGIN:VEVENT
DTSTART;VALUE=DATE:20171028
DTEND;VALUE=DATE:20171029
DTSTAMP:20260424T093412
CREATED:20171102T135121Z
LAST-MODIFIED:20171102T135121Z
UID:10000004-1509148800-1509235199@wildtrails.org
SUMMARY:Make A Wish Foundation of East TN - Trailblaze Challenge
DESCRIPTION:Trailblaze Challenge is an endurance event on a beautiful fall day in the mountains of Georgia/Tennessee to benefit Make-A-Wish East Tennessee. Come see why Chattanooga was voted the BEST OUTDOOR CITY by Outside Magazine. The 26 mile hike course has varying terrain and some of the most stunning views throughout Georgia and Tennessee. There are numerous waterfalls along the hiking route and this weekend will be during our Fall Peak Season. Throughout the summer\, we offer hike weekends to complete the challenge in one life-changing day! The trek provides participants an opportunity for adventure\, fun and fitness while making a direct impact on the lives of children in our community battling life-threatening medical conditions.
URL:https://wildtrails.org/event/make-wish-foundation-east-tn-trailblaze-challenge/
END:VEVENT
END:VCALENDAR