BEGIN:VCALENDAR
VERSION:2.0
PRODID:-//Wild Trails - Chattanooga&#039;s trail protection nonprofit - ECPv6.15.18//NONSGML v1.0//EN
CALSCALE:GREGORIAN
METHOD:PUBLISH
X-ORIGINAL-URL:https://wildtrails.org
X-WR-CALDESC:Events for Wild Trails - Chattanooga&#039;s trail protection nonprofit
REFRESH-INTERVAL;VALUE=DURATION:PT1H
X-Robots-Tag:noindex
X-PUBLISHED-TTL:PT1H
BEGIN:VTIMEZONE
TZID:America/New_York
BEGIN:DAYLIGHT
TZOFFSETFROM:-0500
TZOFFSETTO:-0400
TZNAME:EDT
DTSTART:20160313T070000
END:DAYLIGHT
BEGIN:STANDARD
TZOFFSETFROM:-0400
TZOFFSETTO:-0500
TZNAME:EST
DTSTART:20161106T060000
END:STANDARD
BEGIN:DAYLIGHT
TZOFFSETFROM:-0500
TZOFFSETTO:-0400
TZNAME:EDT
DTSTART:20170312T070000
END:DAYLIGHT
BEGIN:STANDARD
TZOFFSETFROM:-0400
TZOFFSETTO:-0500
TZNAME:EST
DTSTART:20171105T060000
END:STANDARD
BEGIN:DAYLIGHT
TZOFFSETFROM:-0500
TZOFFSETTO:-0400
TZNAME:EDT
DTSTART:20180311T070000
END:DAYLIGHT
BEGIN:STANDARD
TZOFFSETFROM:-0400
TZOFFSETTO:-0500
TZNAME:EST
DTSTART:20181104T060000
END:STANDARD
END:VTIMEZONE
BEGIN:VEVENT
DTSTART;TZID=America/New_York:20171111T073000
DTEND;TZID=America/New_York:20171111T073000
DTSTAMP:20260424T081133
CREATED:20171109T213226Z
LAST-MODIFIED:20171109T213226Z
UID:10000005-1510385400-1510385400@wildtrails.org
SUMMARY:Chickamauga Battlefield Marathon & Half Marathon
DESCRIPTION:The Chickamauga Battlefield Marathon\, in its 38th year\, is run through the Chickamauga & Chattanooga National Military Park in Northwest Georgia. The park honors one of the Civil War\’s most important battles. \nNamed as one of the \”10 best marathons in the south\” by Heathline. Selected by VacationHomeRentals.com as Best Marathon in Georgia. Voted \”race of the year\” in 2012 and 2013 by local runners. In 2010\, readers of Runner\’s World selected the marathon as the \”most family-friendly\” marathon\, the runner-up for \”most scenic\” marathon\, and third for best overall marathon. In 2007\, it was selected as Runner\’s World must-do \”run through history\” marathon of 2007.
URL:https://wildtrails.org/event/chickamauga-battlefield-marathon/
LOCATION:Chickamauga Battlefield\, 6 Barnhardt Circle\, Fort Oglethorpe\, GA\, 30742\, United States
GEO:34.943389;-85.2606681
X-APPLE-STRUCTURED-LOCATION;VALUE=URI;X-ADDRESS=Chickamauga Battlefield 6 Barnhardt Circle Fort Oglethorpe GA 30742 United States;X-APPLE-RADIUS=500;X-TITLE=6 Barnhardt Circle:geo:-85.2606681,34.943389
END:VEVENT
BEGIN:VEVENT
DTSTART;TZID=America/New_York:20171111T080000
DTEND;TZID=America/New_York:20171111T170000
DTSTAMP:20260424T081133
CREATED:20171024T171531Z
LAST-MODIFIED:20171024T171531Z
UID:10000003-1510387200-1510419600@wildtrails.org
SUMMARY:Upchuck 50K
DESCRIPTION:Wild Trails presents the 10th official UPCHUCK 50K. This minimally supported event consists of a point-to-point trail that runs entirely on the technically challenging single track of the Cumberland Trail. This course has huge climbs and huge descents into Soddy Creek\, Possum Creek and Rock Creek. It will\, without a doubt\, go down in the race log as one of the best 50k courses you will ever do. \nPlease do not attempt this run as your first 50K. This is a serious endeavor and will quite possibly be your slowest 50k to date. Let us reiterate: this is seriously difficult and not for beginner ultra runners. You must have completed a 50K within the last 18 months in under 7 hours.
URL:https://wildtrails.org/event/upchuck-50k/
LOCATION:Cumberland Trail\, 190 Depot Street\, Soddy Daisy\, TN\, 37379\, United States
ATTACH;FMTTYPE=image/jpeg:https://wildtrails.org/wp-content/uploads/2015/01/IMAG0654-e1422468226900.jpg
GEO:35.2895928;-85.1580619
X-APPLE-STRUCTURED-LOCATION;VALUE=URI;X-ADDRESS=Cumberland Trail 190 Depot Street Soddy Daisy TN 37379 United States;X-APPLE-RADIUS=500;X-TITLE=190 Depot Street:geo:-85.1580619,35.2895928
END:VEVENT
END:VCALENDAR