BEGIN:VCALENDAR
VERSION:2.0
PRODID:-//Wild Trails - Chattanooga&#039;s trail protection nonprofit - ECPv6.15.18//NONSGML v1.0//EN
CALSCALE:GREGORIAN
METHOD:PUBLISH
X-ORIGINAL-URL:https://wildtrails.org
X-WR-CALDESC:Events for Wild Trails - Chattanooga&#039;s trail protection nonprofit
REFRESH-INTERVAL;VALUE=DURATION:PT1H
X-Robots-Tag:noindex
X-PUBLISHED-TTL:PT1H
BEGIN:VTIMEZONE
TZID:America/New_York
BEGIN:DAYLIGHT
TZOFFSETFROM:-0500
TZOFFSETTO:-0400
TZNAME:EDT
DTSTART:20160313T070000
END:DAYLIGHT
BEGIN:STANDARD
TZOFFSETFROM:-0400
TZOFFSETTO:-0500
TZNAME:EST
DTSTART:20161106T060000
END:STANDARD
BEGIN:DAYLIGHT
TZOFFSETFROM:-0500
TZOFFSETTO:-0400
TZNAME:EDT
DTSTART:20170312T070000
END:DAYLIGHT
BEGIN:STANDARD
TZOFFSETFROM:-0400
TZOFFSETTO:-0500
TZNAME:EST
DTSTART:20171105T060000
END:STANDARD
BEGIN:DAYLIGHT
TZOFFSETFROM:-0500
TZOFFSETTO:-0400
TZNAME:EDT
DTSTART:20180311T070000
END:DAYLIGHT
BEGIN:STANDARD
TZOFFSETFROM:-0400
TZOFFSETTO:-0500
TZNAME:EST
DTSTART:20181104T060000
END:STANDARD
END:VTIMEZONE
BEGIN:VEVENT
DTSTART;TZID=America/New_York:20171123T080000
DTEND;TZID=America/New_York:20171123T120000
DTSTAMP:20260424T081134
CREATED:20171109T215634Z
LAST-MODIFIED:20171109T215634Z
UID:10000009-1511424000-1511438400@wildtrails.org
SUMMARY:18th Annual Grateful Gobbler Walk
DESCRIPTION:The 18th Annual Grateful Gobbler Walk 5K will take place once again on Thanksgiving morning. Walkers will gather at Coolidge Park for festivities before the 8:00 a.m. start.\n\nThe event is especially exciting this year as 100% of the proceeds of the walk will benefit the Maclellan Shelter for Families\, an emergency homeless shelter located on site at the Community Kitchen on 11th Street in Chattanooga. The Shelter features 13 units with 68 beds for families experiencing homelessness. The Shelter provides a stable environment for families to remain together as they search for permanent housing solutions. From now through the month of November\, Grateful Gobbler volunteers will be present throughout the community seeking your support for the Shelter. Please consider taking a moment today to find a way you can be involved. 100% of all registration fees\, sponsorships\, and donations to the 2016 Grateful Gobbler will directly benefit homeless families\, guaranteed!
URL:https://wildtrails.org/event/18th-annual-grateful-gobbler-walk/
LOCATION:Coolidge Park\, 150 River St\, Chattanooga\, TN\, 37405\, United States
ATTACH;FMTTYPE=image/png:https://wildtrails.org/wp-content/uploads/2017/11/grateful-gobbler.png
GEO:35.0613221;-85.3065914
X-APPLE-STRUCTURED-LOCATION;VALUE=URI;X-ADDRESS=Coolidge Park 150 River St Chattanooga TN 37405 United States;X-APPLE-RADIUS=500;X-TITLE=150 River St:geo:-85.3065914,35.0613221
END:VEVENT
END:VCALENDAR