BEGIN:VCALENDAR
VERSION:2.0
PRODID:-//Wild Trails - Chattanooga&#039;s trail protection nonprofit - ECPv6.15.18//NONSGML v1.0//EN
CALSCALE:GREGORIAN
METHOD:PUBLISH
X-ORIGINAL-URL:https://wildtrails.org
X-WR-CALDESC:Events for Wild Trails - Chattanooga&#039;s trail protection nonprofit
REFRESH-INTERVAL;VALUE=DURATION:PT1H
X-Robots-Tag:noindex
X-PUBLISHED-TTL:PT1H
BEGIN:VTIMEZONE
TZID:America/New_York
BEGIN:DAYLIGHT
TZOFFSETFROM:-0500
TZOFFSETTO:-0400
TZNAME:EDT
DTSTART:20160313T070000
END:DAYLIGHT
BEGIN:STANDARD
TZOFFSETFROM:-0400
TZOFFSETTO:-0500
TZNAME:EST
DTSTART:20161106T060000
END:STANDARD
BEGIN:DAYLIGHT
TZOFFSETFROM:-0500
TZOFFSETTO:-0400
TZNAME:EDT
DTSTART:20170312T070000
END:DAYLIGHT
BEGIN:STANDARD
TZOFFSETFROM:-0400
TZOFFSETTO:-0500
TZNAME:EST
DTSTART:20171105T060000
END:STANDARD
BEGIN:DAYLIGHT
TZOFFSETFROM:-0500
TZOFFSETTO:-0400
TZNAME:EDT
DTSTART:20180311T070000
END:DAYLIGHT
BEGIN:STANDARD
TZOFFSETFROM:-0400
TZOFFSETTO:-0500
TZNAME:EST
DTSTART:20181104T060000
END:STANDARD
END:VTIMEZONE
BEGIN:VEVENT
DTSTART;TZID=America/New_York:20171124T100000
DTEND;TZID=America/New_York:20171124T130000
DTSTAMP:20260424T081135
CREATED:20171109T221658Z
LAST-MODIFIED:20171109T221658Z
UID:10000012-1511517600-1511528400@wildtrails.org
SUMMARY:Red Clay State Park | After Thanksgiving Hike
DESCRIPTION:#OptOutside and join the fun away from the crowds. Red Clay State Park is hosting a short hike and interpretive tour at the former capitol of the Cherokee Nation. We will also be discussing the local fauna and animals\, as well as the local geography. Meet at the Gazebo.
URL:https://wildtrails.org/event/red-clay-state-park-after-thanksgiving-hike/
LOCATION:Red Clay State Historic Park\, 1140 Red Clay Rd S\, Cleveland\, TN\, 37311\, United States
ATTACH;FMTTYPE=image/png:https://wildtrails.org/wp-content/uploads/2017/11/TNstateparks-after-thanksgiving-hike-image.png
GEO:34.9927318;-84.9667075
X-APPLE-STRUCTURED-LOCATION;VALUE=URI;X-ADDRESS=Red Clay State Historic Park 1140 Red Clay Rd S Cleveland TN 37311 United States;X-APPLE-RADIUS=500;X-TITLE=1140 Red Clay Rd S:geo:-84.9667075,34.9927318
END:VEVENT
END:VCALENDAR