BEGIN:VCALENDAR
VERSION:2.0
PRODID:-//Wild Trails - Chattanooga&#039;s trail protection nonprofit - ECPv6.15.18//NONSGML v1.0//EN
CALSCALE:GREGORIAN
METHOD:PUBLISH
X-ORIGINAL-URL:https://wildtrails.org
X-WR-CALDESC:Events for Wild Trails - Chattanooga&#039;s trail protection nonprofit
REFRESH-INTERVAL;VALUE=DURATION:PT1H
X-Robots-Tag:noindex
X-PUBLISHED-TTL:PT1H
BEGIN:VTIMEZONE
TZID:America/New_York
BEGIN:DAYLIGHT
TZOFFSETFROM:-0500
TZOFFSETTO:-0400
TZNAME:EDT
DTSTART:20160313T070000
END:DAYLIGHT
BEGIN:STANDARD
TZOFFSETFROM:-0400
TZOFFSETTO:-0500
TZNAME:EST
DTSTART:20161106T060000
END:STANDARD
BEGIN:DAYLIGHT
TZOFFSETFROM:-0500
TZOFFSETTO:-0400
TZNAME:EDT
DTSTART:20170312T070000
END:DAYLIGHT
BEGIN:STANDARD
TZOFFSETFROM:-0400
TZOFFSETTO:-0500
TZNAME:EST
DTSTART:20171105T060000
END:STANDARD
BEGIN:DAYLIGHT
TZOFFSETFROM:-0500
TZOFFSETTO:-0400
TZNAME:EDT
DTSTART:20180311T070000
END:DAYLIGHT
BEGIN:STANDARD
TZOFFSETFROM:-0400
TZOFFSETTO:-0500
TZNAME:EST
DTSTART:20181104T060000
END:STANDARD
END:VTIMEZONE
BEGIN:VEVENT
DTSTART;TZID=America/New_York:20171125T084500
DTEND;TZID=America/New_York:20171125T130000
DTSTAMP:20260424T093410
CREATED:20171109T220447Z
LAST-MODIFIED:20171109T220447Z
UID:10000010-1511599500-1511614800@wildtrails.org
SUMMARY:Chattanooga Hungry Turkey Half Marathon & 5k
DESCRIPTION:Join the tradition at the Chattanooga Hungry Turkey Half Marathon & 5k on Nov. 25th. \nEach participant gets a free zip up sweatshirt with registration and delicious cinnamon rolls are waiting for you at the finish line.
URL:https://wildtrails.org/event/chattanooga-hungry-turkey-half-marathon-5k/
LOCATION:Coolidge Park\, 150 River St\, Chattanooga\, TN\, 37405\, United States
ATTACH;FMTTYPE=image/jpeg:https://wildtrails.org/wp-content/uploads/2017/11/chattanooga-hungry-turkey-mobile-header-739x1024-1.jpg
GEO:35.0613221;-85.3065914
X-APPLE-STRUCTURED-LOCATION;VALUE=URI;X-ADDRESS=Coolidge Park 150 River St Chattanooga TN 37405 United States;X-APPLE-RADIUS=500;X-TITLE=150 River St:geo:-85.3065914,35.0613221
END:VEVENT
END:VCALENDAR