BEGIN:VCALENDAR
VERSION:2.0
PRODID:-//Wild Trails - Chattanooga&#039;s trail protection nonprofit - ECPv6.15.18//NONSGML v1.0//EN
CALSCALE:GREGORIAN
METHOD:PUBLISH
X-ORIGINAL-URL:https://wildtrails.org
X-WR-CALDESC:Events for Wild Trails - Chattanooga&#039;s trail protection nonprofit
REFRESH-INTERVAL;VALUE=DURATION:PT1H
X-Robots-Tag:noindex
X-PUBLISHED-TTL:PT1H
BEGIN:VTIMEZONE
TZID:America/New_York
BEGIN:DAYLIGHT
TZOFFSETFROM:-0500
TZOFFSETTO:-0400
TZNAME:EDT
DTSTART:20160313T070000
END:DAYLIGHT
BEGIN:STANDARD
TZOFFSETFROM:-0400
TZOFFSETTO:-0500
TZNAME:EST
DTSTART:20161106T060000
END:STANDARD
BEGIN:DAYLIGHT
TZOFFSETFROM:-0500
TZOFFSETTO:-0400
TZNAME:EDT
DTSTART:20170312T070000
END:DAYLIGHT
BEGIN:STANDARD
TZOFFSETFROM:-0400
TZOFFSETTO:-0500
TZNAME:EST
DTSTART:20171105T060000
END:STANDARD
BEGIN:DAYLIGHT
TZOFFSETFROM:-0500
TZOFFSETTO:-0400
TZNAME:EDT
DTSTART:20180311T070000
END:DAYLIGHT
BEGIN:STANDARD
TZOFFSETFROM:-0400
TZOFFSETTO:-0500
TZNAME:EST
DTSTART:20181104T060000
END:STANDARD
END:VTIMEZONE
BEGIN:VEVENT
DTSTART;TZID=America/New_York:20171201T190000
DTEND;TZID=America/New_York:20171201T220000
DTSTAMP:20260424T065008
CREATED:20171109T220633Z
LAST-MODIFIED:20171109T220633Z
UID:10000011-1512154800-1512165600@wildtrails.org
SUMMARY:Paddling By Moonlight
DESCRIPTION:Join one of the Reflection Riding Arboretum & Nature Center Naturalists on a moonlight paddle along scenic Lookout Creek. During this 3 hour and approximately 5 mile canoe ride\, you will learn some of the history and animal life surrounding this piece of water. \nWe will use light from the moon as much as possible\, but on our way back to the dock will use headlamps and flashlights to spot for local nocturnal wildlife. \nCall (423) 821-1160 to register. Must be 12 or older to participate.
URL:https://wildtrails.org/event/paddling-by-moonlight/
LOCATION:Chattanooga Arboretum & Nature Center\, 400 Garden Road\, Chattanooga\, TN\, 37419\, United States
GEO:35.0077313;-85.3648424
X-APPLE-STRUCTURED-LOCATION;VALUE=URI;X-ADDRESS=Chattanooga Arboretum & Nature Center 400 Garden Road Chattanooga TN 37419 United States;X-APPLE-RADIUS=500;X-TITLE=400 Garden Road:geo:-85.3648424,35.0077313
END:VEVENT
END:VCALENDAR