BEGIN:VCALENDAR
VERSION:2.0
PRODID:-//Wild Trails - Chattanooga&#039;s trail protection nonprofit - ECPv6.15.18//NONSGML v1.0//EN
CALSCALE:GREGORIAN
METHOD:PUBLISH
X-WR-CALNAME:Wild Trails - Chattanooga&#039;s trail protection nonprofit
X-ORIGINAL-URL:https://wildtrails.org
X-WR-CALDESC:Events for Wild Trails - Chattanooga&#039;s trail protection nonprofit
REFRESH-INTERVAL;VALUE=DURATION:PT1H
X-Robots-Tag:noindex
X-PUBLISHED-TTL:PT1H
BEGIN:VTIMEZONE
TZID:America/New_York
BEGIN:DAYLIGHT
TZOFFSETFROM:-0500
TZOFFSETTO:-0400
TZNAME:EDT
DTSTART:20170312T070000
END:DAYLIGHT
BEGIN:STANDARD
TZOFFSETFROM:-0400
TZOFFSETTO:-0500
TZNAME:EST
DTSTART:20171105T060000
END:STANDARD
BEGIN:DAYLIGHT
TZOFFSETFROM:-0500
TZOFFSETTO:-0400
TZNAME:EDT
DTSTART:20180311T070000
END:DAYLIGHT
BEGIN:STANDARD
TZOFFSETFROM:-0400
TZOFFSETTO:-0500
TZNAME:EST
DTSTART:20181104T060000
END:STANDARD
BEGIN:DAYLIGHT
TZOFFSETFROM:-0500
TZOFFSETTO:-0400
TZNAME:EDT
DTSTART:20190310T070000
END:DAYLIGHT
BEGIN:STANDARD
TZOFFSETFROM:-0400
TZOFFSETTO:-0500
TZNAME:EST
DTSTART:20191103T060000
END:STANDARD
END:VTIMEZONE
BEGIN:VEVENT
DTSTART;TZID=America/New_York:20180311T100000
DTEND;TZID=America/New_York:20180311T170000
DTSTAMP:20260424T031554
CREATED:20180115T233201Z
LAST-MODIFIED:20180115T233201Z
UID:10000016-1520762400-1520787600@wildtrails.org
SUMMARY:Nature Calls
DESCRIPTION:This race is a low key\, no frills\, low cost\, no awards social race\, run\, and/or hike. Both courses are on trails. The 5K is about as easy as can be found in this area and the 15K has some real challenges with the High Adventure trail\, including a rope section and the difficult trail that travels down to the bottom of the magnificent Lula Falls. This event is open to anyone traveling at any speed. Hikers are most welcome\, however\, out of respect for our volunteers time we must enforce a cutoff time of 3 hours for the 15K only. That is 3 miles per hour. The run/hike will be followed by post race snacks and beverages. Proceeds will benefit the Lula Lake Land Trust.
URL:https://wildtrails.org/event/nature-calls/
LOCATION:Lula Lake Land Trust\, 5000 Lula Lake Road\, Lookout Mountain\, Georgia
ATTACH;FMTTYPE=image/png:https://wildtrails.org/wp-content/uploads/2015/01/WT-Nature-Calls_Logo.png
GEO:34.918468;-85.387523
X-APPLE-STRUCTURED-LOCATION;VALUE=URI;X-ADDRESS=Lula Lake Land Trust 5000 Lula Lake Road Lookout Mountain Georgia;X-APPLE-RADIUS=500;X-TITLE=5000 Lula Lake Road:geo:-85.387523,34.918468
END:VEVENT
END:VCALENDAR