BEGIN:VCALENDAR
VERSION:2.0
PRODID:-//Wild Trails - Chattanooga&#039;s trail protection nonprofit - ECPv6.15.18//NONSGML v1.0//EN
CALSCALE:GREGORIAN
METHOD:PUBLISH
X-ORIGINAL-URL:https://wildtrails.org
X-WR-CALDESC:Events for Wild Trails - Chattanooga&#039;s trail protection nonprofit
REFRESH-INTERVAL;VALUE=DURATION:PT1H
X-Robots-Tag:noindex
X-PUBLISHED-TTL:PT1H
BEGIN:VTIMEZONE
TZID:America/New_York
BEGIN:DAYLIGHT
TZOFFSETFROM:-0500
TZOFFSETTO:-0400
TZNAME:EDT
DTSTART:20170312T070000
END:DAYLIGHT
BEGIN:STANDARD
TZOFFSETFROM:-0400
TZOFFSETTO:-0500
TZNAME:EST
DTSTART:20171105T060000
END:STANDARD
BEGIN:DAYLIGHT
TZOFFSETFROM:-0500
TZOFFSETTO:-0400
TZNAME:EDT
DTSTART:20180311T070000
END:DAYLIGHT
BEGIN:STANDARD
TZOFFSETFROM:-0400
TZOFFSETTO:-0500
TZNAME:EST
DTSTART:20181104T060000
END:STANDARD
BEGIN:DAYLIGHT
TZOFFSETFROM:-0500
TZOFFSETTO:-0400
TZNAME:EDT
DTSTART:20190310T070000
END:DAYLIGHT
BEGIN:STANDARD
TZOFFSETFROM:-0400
TZOFFSETTO:-0500
TZNAME:EST
DTSTART:20191103T060000
END:STANDARD
END:VTIMEZONE
BEGIN:VEVENT
DTSTART;TZID=America/New_York:20180525T180000
DTEND;TZID=America/New_York:20180526T180000
DTSTAMP:20260424T004757
CREATED:20180115T233823Z
LAST-MODIFIED:20180115T233823Z
UID:10000020-1527271200-1527357600@wildtrails.org
SUMMARY:Chattanooga Trail Relay
DESCRIPTION:Join us at Enterprise South Nature Park for a 97-mile trail relay!
URL:https://wildtrails.org/event/chattanooga-trail-relay/
LOCATION:Enterprise South Nature Park
END:VEVENT
END:VCALENDAR