BEGIN:VCALENDAR
VERSION:2.0
PRODID:-//Wild Trails - Chattanooga&#039;s trail protection nonprofit - ECPv6.15.18//NONSGML v1.0//EN
CALSCALE:GREGORIAN
METHOD:PUBLISH
X-ORIGINAL-URL:https://wildtrails.org
X-WR-CALDESC:Events for Wild Trails - Chattanooga&#039;s trail protection nonprofit
REFRESH-INTERVAL;VALUE=DURATION:PT1H
X-Robots-Tag:noindex
X-PUBLISHED-TTL:PT1H
BEGIN:VTIMEZONE
TZID:America/New_York
BEGIN:DAYLIGHT
TZOFFSETFROM:-0500
TZOFFSETTO:-0400
TZNAME:EDT
DTSTART:20170312T070000
END:DAYLIGHT
BEGIN:STANDARD
TZOFFSETFROM:-0400
TZOFFSETTO:-0500
TZNAME:EST
DTSTART:20171105T060000
END:STANDARD
BEGIN:DAYLIGHT
TZOFFSETFROM:-0500
TZOFFSETTO:-0400
TZNAME:EDT
DTSTART:20180311T070000
END:DAYLIGHT
BEGIN:STANDARD
TZOFFSETFROM:-0400
TZOFFSETTO:-0500
TZNAME:EST
DTSTART:20181104T060000
END:STANDARD
BEGIN:DAYLIGHT
TZOFFSETFROM:-0500
TZOFFSETTO:-0400
TZNAME:EDT
DTSTART:20190310T070000
END:DAYLIGHT
BEGIN:STANDARD
TZOFFSETFROM:-0400
TZOFFSETTO:-0500
TZNAME:EST
DTSTART:20191103T060000
END:STANDARD
END:VTIMEZONE
BEGIN:VEVENT
DTSTART;TZID=America/New_York:20180922T080000
DTEND;TZID=America/New_York:20180922T170000
DTSTAMP:20260423T153627
CREATED:20180115T234437Z
LAST-MODIFIED:20180115T234437Z
UID:10000024-1537603200-1537635600@wildtrails.org
SUMMARY:ChickStock
DESCRIPTION:Details coming soon!
URL:https://wildtrails.org/event/chickstock/
LOCATION:Greenway Farms\, 5051 Gann Store Rd\, Hixson\, TN\, 37343
GEO:35.1249428;-85.2187431
X-APPLE-STRUCTURED-LOCATION;VALUE=URI;X-ADDRESS=Greenway Farms 5051 Gann Store Rd Hixson TN 37343;X-APPLE-RADIUS=500;X-TITLE=5051 Gann Store Rd:geo:-85.2187431,35.1249428
END:VEVENT
END:VCALENDAR