BEGIN:VCALENDAR
VERSION:2.0
PRODID:-//Wild Trails - Chattanooga&#039;s trail protection nonprofit - ECPv6.15.18//NONSGML v1.0//EN
CALSCALE:GREGORIAN
METHOD:PUBLISH
X-WR-CALNAME:Wild Trails - Chattanooga&#039;s trail protection nonprofit
X-ORIGINAL-URL:https://wildtrails.org
X-WR-CALDESC:Events for Wild Trails - Chattanooga&#039;s trail protection nonprofit
REFRESH-INTERVAL;VALUE=DURATION:PT1H
X-Robots-Tag:noindex
X-PUBLISHED-TTL:PT1H
BEGIN:VTIMEZONE
TZID:America/New_York
BEGIN:DAYLIGHT
TZOFFSETFROM:-0500
TZOFFSETTO:-0400
TZNAME:EDT
DTSTART:20180311T070000
END:DAYLIGHT
BEGIN:STANDARD
TZOFFSETFROM:-0400
TZOFFSETTO:-0500
TZNAME:EST
DTSTART:20181104T060000
END:STANDARD
BEGIN:DAYLIGHT
TZOFFSETFROM:-0500
TZOFFSETTO:-0400
TZNAME:EDT
DTSTART:20190310T070000
END:DAYLIGHT
BEGIN:STANDARD
TZOFFSETFROM:-0400
TZOFFSETTO:-0500
TZNAME:EST
DTSTART:20191103T060000
END:STANDARD
BEGIN:DAYLIGHT
TZOFFSETFROM:-0500
TZOFFSETTO:-0400
TZNAME:EDT
DTSTART:20200308T070000
END:DAYLIGHT
BEGIN:STANDARD
TZOFFSETFROM:-0400
TZOFFSETTO:-0500
TZNAME:EST
DTSTART:20201101T060000
END:STANDARD
END:VTIMEZONE
BEGIN:VEVENT
DTSTART;TZID=America/New_York:20190323T100000
DTEND;TZID=America/New_York:20190323T160000
DTSTAMP:20260423T073159
CREATED:20190119T185100Z
LAST-MODIFIED:20190119T185100Z
UID:10000032-1553335200-1553356800@wildtrails.org
SUMMARY:Flipper\'s Bend 1/2 Marathon and 5 Mile Trail Races
DESCRIPTION:This race is a joint collaboration of Wild Trails and the North Chickamauga Creek Conservancy. All proceeds will go to the construction of the upper North Chickamauga Creek section of the Cumberland Trail. Join us at for a beautiful 1/2 marathon or 5 mile trail run on the back of Signal Mountain on the Flipper’s Bend Trail. A post run party including beverages and chili are included in the price of your entry fee. Thank you and can’t wait to see you at the end of March!
URL:https://wildtrails.org/event/flippers-bend-half-marathon-and-5-mile-trail-races-2019/
LOCATION:Flipper\’s Bend Trail Head\, 8423-8473 Hixson Springs Rd\, Signal Mountain\, Tennessee\, 37377
ATTACH;FMTTYPE=image/png:https://wildtrails.org/wp-content/uploads/2018/01/Screen-Shot-2018-01-15-at-5.46.09-PM.png
GEO:35.2316692;-85.2782003
X-APPLE-STRUCTURED-LOCATION;VALUE=URI;X-ADDRESS=Flipper\’s Bend Trail Head 8423-8473 Hixson Springs Rd Signal Mountain Tennessee 37377;X-APPLE-RADIUS=500;X-TITLE=8423-8473 Hixson Springs Rd:geo:-85.2782003,35.2316692
END:VEVENT
END:VCALENDAR