BEGIN:VCALENDAR
VERSION:2.0
PRODID:-//Wild Trails - Chattanooga&#039;s trail protection nonprofit - ECPv6.15.18//NONSGML v1.0//EN
CALSCALE:GREGORIAN
METHOD:PUBLISH
X-WR-CALNAME:Wild Trails - Chattanooga&#039;s trail protection nonprofit
X-ORIGINAL-URL:https://wildtrails.org
X-WR-CALDESC:Events for Wild Trails - Chattanooga&#039;s trail protection nonprofit
REFRESH-INTERVAL;VALUE=DURATION:PT1H
X-Robots-Tag:noindex
X-PUBLISHED-TTL:PT1H
BEGIN:VTIMEZONE
TZID:America/New_York
BEGIN:DAYLIGHT
TZOFFSETFROM:-0500
TZOFFSETTO:-0400
TZNAME:EDT
DTSTART:20180311T070000
END:DAYLIGHT
BEGIN:STANDARD
TZOFFSETFROM:-0400
TZOFFSETTO:-0500
TZNAME:EST
DTSTART:20181104T060000
END:STANDARD
BEGIN:DAYLIGHT
TZOFFSETFROM:-0500
TZOFFSETTO:-0400
TZNAME:EDT
DTSTART:20190310T070000
END:DAYLIGHT
BEGIN:STANDARD
TZOFFSETFROM:-0400
TZOFFSETTO:-0500
TZNAME:EST
DTSTART:20191103T060000
END:STANDARD
BEGIN:DAYLIGHT
TZOFFSETFROM:-0500
TZOFFSETTO:-0400
TZNAME:EDT
DTSTART:20200308T070000
END:DAYLIGHT
BEGIN:STANDARD
TZOFFSETFROM:-0400
TZOFFSETTO:-0500
TZNAME:EST
DTSTART:20201101T060000
END:STANDARD
END:VTIMEZONE
BEGIN:VEVENT
DTSTART;TZID=America/New_York:20190420T120000
DTEND;TZID=America/New_York:20190420T200000
DTSTAMP:20260423T062007
CREATED:20190321T155756Z
LAST-MODIFIED:20190321T155756Z
UID:10000055-1555761600-1555790400@wildtrails.org
SUMMARY:Audubon Society Adventure Pentathlon
DESCRIPTION:This race takes place at the gorgeous Coolidge riverside park in downtown Chattagooga. It is made up of 5 separate outdoor sports\, as follows: Road run 1.7 miles to Stringers ridge nature park\, mountain bike 3.9 mile loop back to the trail head\, road run 1.7 miles back to Coolidge\, paddle (any craft) 3.4 mile loop ending at Maclellan island\, trail run .7 mile loop\, paddle to Coolidge .6 miles. The clock stops at the shore. Top rope one of the 4 routes on the Walnut bridge climbing wall. The climbing routes are rated between 5.6 and 5.7. This event is open to anyone traveling at about any speed but there will be a 1.5 hour cutoff at the end of the run-bike-run section. That averages to 16 min per mile for the 3.4 mile run and 10 min per mile for the 3.9 mile bike.The race will be followed by post race snacks\, beverages and a coupon for free admission to Audubon Acres among other sponsor SWAG. \nAll of the proceeds will benefit two great\, local non-profit organizations – Chattanooga Audubon Society and Wild Trails.
URL:https://wildtrails.org/event/audubon-society-adventure-pentathlon/
LOCATION:Coolidge Park\, 150 River St\, Chattanooga\, TN\, 37405\, United States
ATTACH;FMTTYPE=image/png:https://wildtrails.org/wp-content/uploads/2019/03/Audubon-Adventure-Pentathlon-Logo.png
GEO:35.0613221;-85.3065914
X-APPLE-STRUCTURED-LOCATION;VALUE=URI;X-ADDRESS=Coolidge Park 150 River St Chattanooga TN 37405 United States;X-APPLE-RADIUS=500;X-TITLE=150 River St:geo:-85.3065914,35.0613221
END:VEVENT
END:VCALENDAR