BEGIN:VCALENDAR
VERSION:2.0
PRODID:-//Wild Trails - Chattanooga&#039;s trail protection nonprofit - ECPv6.15.18//NONSGML v1.0//EN
CALSCALE:GREGORIAN
METHOD:PUBLISH
X-ORIGINAL-URL:https://wildtrails.org
X-WR-CALDESC:Events for Wild Trails - Chattanooga&#039;s trail protection nonprofit
REFRESH-INTERVAL;VALUE=DURATION:PT1H
X-Robots-Tag:noindex
X-PUBLISHED-TTL:PT1H
BEGIN:VTIMEZONE
TZID:America/New_York
BEGIN:DAYLIGHT
TZOFFSETFROM:-0500
TZOFFSETTO:-0400
TZNAME:EDT
DTSTART:20180311T070000
END:DAYLIGHT
BEGIN:STANDARD
TZOFFSETFROM:-0400
TZOFFSETTO:-0500
TZNAME:EST
DTSTART:20181104T060000
END:STANDARD
BEGIN:DAYLIGHT
TZOFFSETFROM:-0500
TZOFFSETTO:-0400
TZNAME:EDT
DTSTART:20190310T070000
END:DAYLIGHT
BEGIN:STANDARD
TZOFFSETFROM:-0400
TZOFFSETTO:-0500
TZNAME:EST
DTSTART:20191103T060000
END:STANDARD
BEGIN:DAYLIGHT
TZOFFSETFROM:-0500
TZOFFSETTO:-0400
TZNAME:EDT
DTSTART:20200308T070000
END:DAYLIGHT
BEGIN:STANDARD
TZOFFSETFROM:-0400
TZOFFSETTO:-0500
TZNAME:EST
DTSTART:20201101T060000
END:STANDARD
END:VTIMEZONE
BEGIN:VEVENT
DTSTART;TZID=America/New_York:20190511T080000
DTEND;TZID=America/New_York:20190511T130000
DTSTAMP:20260423T045755
CREATED:20190201T150347Z
LAST-MODIFIED:20190201T150347Z
UID:10000038-1557561600-1557579600@wildtrails.org
SUMMARY:Scenic City Trail Marathon and Half Marathon
DESCRIPTION:The trails at Raccoon Mountain are still mostly fast and forgiving\, making for a leisurely race for new trail runners or a full on speed-fest for those hunting for non-technical trails. The marathon course is new for this year. We are going back to sort of the old course of running the 1/2 marathon twice. This will be far easier and faster than going down and back up the brutal Live Wire trail.
URL:https://wildtrails.org/event/scenic-city-trail-marathon-and-half-marathon/
LOCATION:Raccoon Mountain\, Laurel Point\, Electric Ave Two\, Chattanooga\, TN\, 37419\, United States
ATTACH;FMTTYPE=image/jpeg:https://wildtrails.org/wp-content/uploads/2015/01/Scenic-City-Logo.jpg
END:VEVENT
END:VCALENDAR