BEGIN:VCALENDAR
VERSION:2.0
PRODID:-//Wild Trails - Chattanooga&#039;s trail protection nonprofit - ECPv6.15.18//NONSGML v1.0//EN
CALSCALE:GREGORIAN
METHOD:PUBLISH
X-ORIGINAL-URL:https://wildtrails.org
X-WR-CALDESC:Events for Wild Trails - Chattanooga&#039;s trail protection nonprofit
REFRESH-INTERVAL;VALUE=DURATION:PT1H
X-Robots-Tag:noindex
X-PUBLISHED-TTL:PT1H
BEGIN:VTIMEZONE
TZID:America/New_York
BEGIN:DAYLIGHT
TZOFFSETFROM:-0500
TZOFFSETTO:-0400
TZNAME:EDT
DTSTART:20180311T070000
END:DAYLIGHT
BEGIN:STANDARD
TZOFFSETFROM:-0400
TZOFFSETTO:-0500
TZNAME:EST
DTSTART:20181104T060000
END:STANDARD
BEGIN:DAYLIGHT
TZOFFSETFROM:-0500
TZOFFSETTO:-0400
TZNAME:EDT
DTSTART:20190310T070000
END:DAYLIGHT
BEGIN:STANDARD
TZOFFSETFROM:-0400
TZOFFSETTO:-0500
TZNAME:EST
DTSTART:20191103T060000
END:STANDARD
BEGIN:DAYLIGHT
TZOFFSETFROM:-0500
TZOFFSETTO:-0400
TZNAME:EDT
DTSTART:20200308T070000
END:DAYLIGHT
BEGIN:STANDARD
TZOFFSETFROM:-0400
TZOFFSETTO:-0500
TZNAME:EST
DTSTART:20201101T060000
END:STANDARD
END:VTIMEZONE
BEGIN:VEVENT
DTSTART;TZID=America/New_York:20190524T180000
DTEND;TZID=America/New_York:20190525T160000
DTSTAMP:20260423T045756
CREATED:20190201T152622Z
LAST-MODIFIED:20190201T152622Z
UID:10000040-1558720800-1558800000@wildtrails.org
SUMMARY:Chattanooga Trail Relay
DESCRIPTION:The main parking lot at the amazing Enterprise South Nature Park will be transformed into a giant camp and outdoor restaurant to serve as the headquarters and transition area for one of the best (if we do say so ourselves) trail running events in the southeast! This is a 97 mile race that includes three separate trail loops. Each loop must be completed six times by each team. And  heads up – we\’re changing it up this year\, there will only be 6 person teams. See the Race Details below for all of the facts. Don\’t miss out on this epic adventure!
URL:https://wildtrails.org/event/chattanooga-trail-relay-2019/
LOCATION:Enterprise South Nature Park
ATTACH;FMTTYPE=image/png:https://wildtrails.org/wp-content/uploads/2018/02/eagle_tan_on_olive_web.png
END:VEVENT
END:VCALENDAR