BEGIN:VCALENDAR
VERSION:2.0
PRODID:-//Wild Trails - Chattanooga&#039;s trail protection nonprofit - ECPv6.15.18//NONSGML v1.0//EN
CALSCALE:GREGORIAN
METHOD:PUBLISH
X-ORIGINAL-URL:https://wildtrails.org
X-WR-CALDESC:Events for Wild Trails - Chattanooga&#039;s trail protection nonprofit
REFRESH-INTERVAL;VALUE=DURATION:PT1H
X-Robots-Tag:noindex
X-PUBLISHED-TTL:PT1H
BEGIN:VTIMEZONE
TZID:America/New_York
BEGIN:DAYLIGHT
TZOFFSETFROM:-0500
TZOFFSETTO:-0400
TZNAME:EDT
DTSTART:20180311T070000
END:DAYLIGHT
BEGIN:STANDARD
TZOFFSETFROM:-0400
TZOFFSETTO:-0500
TZNAME:EST
DTSTART:20181104T060000
END:STANDARD
BEGIN:DAYLIGHT
TZOFFSETFROM:-0500
TZOFFSETTO:-0400
TZNAME:EDT
DTSTART:20190310T070000
END:DAYLIGHT
BEGIN:STANDARD
TZOFFSETFROM:-0400
TZOFFSETTO:-0500
TZNAME:EST
DTSTART:20191103T060000
END:STANDARD
BEGIN:DAYLIGHT
TZOFFSETFROM:-0500
TZOFFSETTO:-0400
TZNAME:EDT
DTSTART:20200308T070000
END:DAYLIGHT
BEGIN:STANDARD
TZOFFSETFROM:-0400
TZOFFSETTO:-0500
TZNAME:EST
DTSTART:20201101T060000
END:STANDARD
END:VTIMEZONE
BEGIN:VEVENT
DTSTART;TZID=America/New_York:20190614T080000
DTEND;TZID=America/New_York:20190616T140000
DTSTAMP:20260423T032720
CREATED:20190201T160838Z
LAST-MODIFIED:20190201T160838Z
UID:10000043-1560499200-1560693600@wildtrails.org
SUMMARY:Chattanooga Mountains Stage Race
DESCRIPTION:The Chattanooga Mountains Stage Race consists of three exciting days of trail running in the beautiful mountains surrounding Chattanooga. This challenging — yet attainable — series includes 18 miles on Raccoon Mountain for Day 1\, 22 miles on Lookout Mountain for Day 2 and a 20-mile grand finale on Signal Mountain.
URL:https://wildtrails.org/event/chattanooga-mountains-stage-race-2019/
ATTACH;FMTTYPE=image/png:https://wildtrails.org/wp-content/uploads/2015/01/Chattanooga-Stage-2.png
END:VEVENT
END:VCALENDAR