BEGIN:VCALENDAR
VERSION:2.0
PRODID:-//Wild Trails - Chattanooga&#039;s trail protection nonprofit - ECPv6.15.18//NONSGML v1.0//EN
CALSCALE:GREGORIAN
METHOD:PUBLISH
X-ORIGINAL-URL:https://wildtrails.org
X-WR-CALDESC:Events for Wild Trails - Chattanooga&#039;s trail protection nonprofit
REFRESH-INTERVAL;VALUE=DURATION:PT1H
X-Robots-Tag:noindex
X-PUBLISHED-TTL:PT1H
BEGIN:VTIMEZONE
TZID:America/New_York
BEGIN:DAYLIGHT
TZOFFSETFROM:-0500
TZOFFSETTO:-0400
TZNAME:EDT
DTSTART:20180311T070000
END:DAYLIGHT
BEGIN:STANDARD
TZOFFSETFROM:-0400
TZOFFSETTO:-0500
TZNAME:EST
DTSTART:20181104T060000
END:STANDARD
BEGIN:DAYLIGHT
TZOFFSETFROM:-0500
TZOFFSETTO:-0400
TZNAME:EDT
DTSTART:20190310T070000
END:DAYLIGHT
BEGIN:STANDARD
TZOFFSETFROM:-0400
TZOFFSETTO:-0500
TZNAME:EST
DTSTART:20191103T060000
END:STANDARD
BEGIN:DAYLIGHT
TZOFFSETFROM:-0500
TZOFFSETTO:-0400
TZNAME:EDT
DTSTART:20200308T070000
END:DAYLIGHT
BEGIN:STANDARD
TZOFFSETFROM:-0400
TZOFFSETTO:-0500
TZNAME:EST
DTSTART:20201101T060000
END:STANDARD
END:VTIMEZONE
BEGIN:VEVENT
DTSTART;TZID=America/New_York:20190803T073000
DTEND;TZID=America/New_York:20190803T110000
DTSTAMP:20260423T001915
CREATED:20190201T184407Z
LAST-MODIFIED:20190201T184407Z
UID:10000045-1564817400-1564830000@wildtrails.org
SUMMARY:Still Hollow 1/2 Marathon and 10K Trail Race
DESCRIPTION:The Enterprise South Nature Park is the venue for one of the fastest growing trail races in the Southeast. The wide\, soft and gently rolling pedestrian only trails make the first section a perfect lead in for the 1/2 marathon and the entire 10K race. Both races start at the same time. The second 1/2 of the longer race is on the non technical bike trails winding through a more remote area of this widely diverse and heavily wooded nature park.
URL:https://wildtrails.org/event/still-hollow-1-2-marathon-and-10k-trail-race/
LOCATION:Enterprise South Nature Park
ATTACH;FMTTYPE=image/jpeg:https://wildtrails.org/wp-content/uploads/2015/01/Still-Hollow-logo.jpg
END:VEVENT
END:VCALENDAR