BEGIN:VCALENDAR
VERSION:2.0
PRODID:-//Wild Trails - Chattanooga&#039;s trail protection nonprofit - ECPv6.15.18//NONSGML v1.0//EN
CALSCALE:GREGORIAN
METHOD:PUBLISH
X-WR-CALNAME:Wild Trails - Chattanooga&#039;s trail protection nonprofit
X-ORIGINAL-URL:https://wildtrails.org
X-WR-CALDESC:Events for Wild Trails - Chattanooga&#039;s trail protection nonprofit
REFRESH-INTERVAL;VALUE=DURATION:PT1H
X-Robots-Tag:noindex
X-PUBLISHED-TTL:PT1H
BEGIN:VTIMEZONE
TZID:America/New_York
BEGIN:DAYLIGHT
TZOFFSETFROM:-0500
TZOFFSETTO:-0400
TZNAME:EDT
DTSTART:20180311T070000
END:DAYLIGHT
BEGIN:STANDARD
TZOFFSETFROM:-0400
TZOFFSETTO:-0500
TZNAME:EST
DTSTART:20181104T060000
END:STANDARD
BEGIN:DAYLIGHT
TZOFFSETFROM:-0500
TZOFFSETTO:-0400
TZNAME:EDT
DTSTART:20190310T070000
END:DAYLIGHT
BEGIN:STANDARD
TZOFFSETFROM:-0400
TZOFFSETTO:-0500
TZNAME:EST
DTSTART:20191103T060000
END:STANDARD
BEGIN:DAYLIGHT
TZOFFSETFROM:-0500
TZOFFSETTO:-0400
TZNAME:EDT
DTSTART:20200308T070000
END:DAYLIGHT
BEGIN:STANDARD
TZOFFSETFROM:-0400
TZOFFSETTO:-0500
TZNAME:EST
DTSTART:20201101T060000
END:STANDARD
END:VTIMEZONE
BEGIN:VEVENT
DTSTART;TZID=America/New_York:20190824T050000
DTEND;TZID=America/New_York:20190824T170000
DTSTAMP:20260423T001738
CREATED:20190201T191618Z
LAST-MODIFIED:20190201T191618Z
UID:10000047-1566622800-1566666000@wildtrails.org
SUMMARY:Five Star 50 Paddle Race
DESCRIPTION:What fantastic course that spotlights all of our local flat water. Downtown to Sterchi Farms (S. Chickamauga creek) to Greenway Farms (N. Chickamauga creek) to south Broad St (Chattanooga creek) to Reflection Riding (Lookout Creek) around Williams Island and back to downtown. We are hosting a test run on. To begin with there is only one craft category…Open. As soon as there are 10 of one type of craft in one gender registered\, we will give out awards for that seperate group. This is called Five Star for two reasons\, there are five independent bodies of water that we will be paddling on and we intend for this to be a Five Star event. Your entry fee will include lodging at the Crash Pad. Albeit not a Five Star hotel but just perfect for hanging out with fellow paddlers. We will also cater to your individual food needs out on the water. We will have five locations that we will have exactly what you want to eat and drink at each stop. We will not only have at each feeding station what you ordered ahead of time but we will have a bunch of options if you change your mind.
URL:https://wildtrails.org/event/five-star-50-paddle-race/
LOCATION:Coolidge Park\, 150 River St\, Chattanooga\, TN\, 37405\, United States
GEO:35.0613221;-85.3065914
X-APPLE-STRUCTURED-LOCATION;VALUE=URI;X-ADDRESS=Coolidge Park 150 River St Chattanooga TN 37405 United States;X-APPLE-RADIUS=500;X-TITLE=150 River St:geo:-85.3065914,35.0613221
END:VEVENT
END:VCALENDAR