BEGIN:VCALENDAR
VERSION:2.0
PRODID:-//Wild Trails - Chattanooga&#039;s trail protection nonprofit - ECPv6.15.18//NONSGML v1.0//EN
CALSCALE:GREGORIAN
METHOD:PUBLISH
X-WR-CALNAME:Wild Trails - Chattanooga&#039;s trail protection nonprofit
X-ORIGINAL-URL:https://wildtrails.org
X-WR-CALDESC:Events for Wild Trails - Chattanooga&#039;s trail protection nonprofit
REFRESH-INTERVAL;VALUE=DURATION:PT1H
X-Robots-Tag:noindex
X-PUBLISHED-TTL:PT1H
BEGIN:VTIMEZONE
TZID:America/New_York
BEGIN:DAYLIGHT
TZOFFSETFROM:-0500
TZOFFSETTO:-0400
TZNAME:EDT
DTSTART:20180311T070000
END:DAYLIGHT
BEGIN:STANDARD
TZOFFSETFROM:-0400
TZOFFSETTO:-0500
TZNAME:EST
DTSTART:20181104T060000
END:STANDARD
BEGIN:DAYLIGHT
TZOFFSETFROM:-0500
TZOFFSETTO:-0400
TZNAME:EDT
DTSTART:20190310T070000
END:DAYLIGHT
BEGIN:STANDARD
TZOFFSETFROM:-0400
TZOFFSETTO:-0500
TZNAME:EST
DTSTART:20191103T060000
END:STANDARD
BEGIN:DAYLIGHT
TZOFFSETFROM:-0500
TZOFFSETTO:-0400
TZNAME:EDT
DTSTART:20200308T070000
END:DAYLIGHT
BEGIN:STANDARD
TZOFFSETFROM:-0400
TZOFFSETTO:-0500
TZNAME:EST
DTSTART:20201101T060000
END:STANDARD
END:VTIMEZONE
BEGIN:VEVENT
DTSTART;TZID=America/New_York:20190921T060000
DTEND;TZID=America/New_York:20190921T180000
DTSTAMP:20260422T224745
CREATED:20190201T192548Z
LAST-MODIFIED:20190201T192548Z
UID:10000048-1569045600-1569088800@wildtrails.org
SUMMARY:Make A Wish Foundation Trailblaze Challenge 2019
DESCRIPTION:Trailblaze Challenge is an endurance event on a beautiful fall day in the mountains of Georgia/Tennessee to benefit Make-A-Wish East Tennessee. Come see why Chattanooga was voted the BEST OUTDOOR CITY by Outside Magazine. The 26 mile hike course has varying terrain and some of the most stunning views throughout Georgia and Tennessee. There are numerous waterfalls along the hiking route and this weekend will be during our Fall Peak Season. Throughout the summer\, we offer hike weekends to complete the challenge in one life-changing day! The trek provides participants an opportunity for adventure\, fun and fitness while making a direct impact on the lives of children in our community battling life-threatening medical conditions.
URL:https://wildtrails.org/event/make-a-wish-foundation-trailblaze-challenge-2019/
LOCATION:Lula Lake Land Trust\, 5000 Lula Lake Road\, Lookout Mountain\, Georgia
ATTACH;FMTTYPE=image/jpeg:https://wildtrails.org/wp-content/uploads/2019/02/MakeAWish_Trailblaze_Challenge.jpg
GEO:34.918468;-85.387523
X-APPLE-STRUCTURED-LOCATION;VALUE=URI;X-ADDRESS=Lula Lake Land Trust 5000 Lula Lake Road Lookout Mountain Georgia;X-APPLE-RADIUS=500;X-TITLE=5000 Lula Lake Road:geo:-85.387523,34.918468
END:VEVENT
END:VCALENDAR