BEGIN:VCALENDAR
VERSION:2.0
PRODID:-//Wild Trails - Chattanooga&#039;s trail protection nonprofit - ECPv6.15.18//NONSGML v1.0//EN
CALSCALE:GREGORIAN
METHOD:PUBLISH
X-ORIGINAL-URL:https://wildtrails.org
X-WR-CALDESC:Events for Wild Trails - Chattanooga&#039;s trail protection nonprofit
REFRESH-INTERVAL;VALUE=DURATION:PT1H
X-Robots-Tag:noindex
X-PUBLISHED-TTL:PT1H
BEGIN:VTIMEZONE
TZID:America/New_York
BEGIN:DAYLIGHT
TZOFFSETFROM:-0500
TZOFFSETTO:-0400
TZNAME:EDT
DTSTART:20180311T070000
END:DAYLIGHT
BEGIN:STANDARD
TZOFFSETFROM:-0400
TZOFFSETTO:-0500
TZNAME:EST
DTSTART:20181104T060000
END:STANDARD
BEGIN:DAYLIGHT
TZOFFSETFROM:-0500
TZOFFSETTO:-0400
TZNAME:EDT
DTSTART:20190310T070000
END:DAYLIGHT
BEGIN:STANDARD
TZOFFSETFROM:-0400
TZOFFSETTO:-0500
TZNAME:EST
DTSTART:20191103T060000
END:STANDARD
BEGIN:DAYLIGHT
TZOFFSETFROM:-0500
TZOFFSETTO:-0400
TZNAME:EDT
DTSTART:20200308T070000
END:DAYLIGHT
BEGIN:STANDARD
TZOFFSETFROM:-0400
TZOFFSETTO:-0500
TZNAME:EST
DTSTART:20201101T060000
END:STANDARD
END:VTIMEZONE
BEGIN:VEVENT
DTSTART;TZID=America/New_York:20191005T083000
DTEND;TZID=America/New_York:20191005T140000
DTSTAMP:20260422T212449
CREATED:20190201T193506Z
LAST-MODIFIED:20190201T193506Z
UID:10000049-1570264200-1570284000@wildtrails.org
SUMMARY:River + Road + Rock Adventure Triathlon 2019
DESCRIPTION:
URL:https://wildtrails.org/event/river-road-rock-adventure-triathlon-2019/
LOCATION:Coolidge Park\, 150 River St\, Chattanooga\, TN\, 37405\, United States
ATTACH;FMTTYPE=image/png:https://wildtrails.org/wp-content/uploads/2018/03/Adventure-Triathlon-Logo.png
GEO:35.0613221;-85.3065914
X-APPLE-STRUCTURED-LOCATION;VALUE=URI;X-ADDRESS=Coolidge Park 150 River St Chattanooga TN 37405 United States;X-APPLE-RADIUS=500;X-TITLE=150 River St:geo:-85.3065914,35.0613221
END:VEVENT
END:VCALENDAR