BEGIN:VCALENDAR
VERSION:2.0
PRODID:-//Wild Trails - Chattanooga&#039;s trail protection nonprofit - ECPv6.15.18//NONSGML v1.0//EN
CALSCALE:GREGORIAN
METHOD:PUBLISH
X-WR-CALNAME:Wild Trails - Chattanooga&#039;s trail protection nonprofit
X-ORIGINAL-URL:https://wildtrails.org
X-WR-CALDESC:Events for Wild Trails - Chattanooga&#039;s trail protection nonprofit
REFRESH-INTERVAL;VALUE=DURATION:PT1H
X-Robots-Tag:noindex
X-PUBLISHED-TTL:PT1H
BEGIN:VTIMEZONE
TZID:America/New_York
BEGIN:DAYLIGHT
TZOFFSETFROM:-0500
TZOFFSETTO:-0400
TZNAME:EDT
DTSTART:20180311T070000
END:DAYLIGHT
BEGIN:STANDARD
TZOFFSETFROM:-0400
TZOFFSETTO:-0500
TZNAME:EST
DTSTART:20181104T060000
END:STANDARD
BEGIN:DAYLIGHT
TZOFFSETFROM:-0500
TZOFFSETTO:-0400
TZNAME:EDT
DTSTART:20190310T070000
END:DAYLIGHT
BEGIN:STANDARD
TZOFFSETFROM:-0400
TZOFFSETTO:-0500
TZNAME:EST
DTSTART:20191103T060000
END:STANDARD
BEGIN:DAYLIGHT
TZOFFSETFROM:-0500
TZOFFSETTO:-0400
TZNAME:EDT
DTSTART:20200308T070000
END:DAYLIGHT
BEGIN:STANDARD
TZOFFSETFROM:-0400
TZOFFSETTO:-0500
TZNAME:EST
DTSTART:20201101T060000
END:STANDARD
END:VTIMEZONE
BEGIN:VEVENT
DTSTART;VALUE=DATE:20191012
DTEND;VALUE=DATE:20191013
DTSTAMP:20260422T212358
CREATED:20190819T194415Z
LAST-MODIFIED:20190819T194415Z
UID:10000058-1570838400-1570924799@wildtrails.org
SUMMARY:Blue Ridge Ultra (50\, 30\, 15k)
DESCRIPTION:The Blue Ridge Ultra is a 50K loop trail race is deep within the beautiful Chattahoochee National Forest of the North Georgia Mountains. It consists of 16 miles of the Benton MacKaye trail\, 6 miles of Hidden trails and 9 miles of Forest Service roads with over 6\,000 feet of elevation change. You will experience tough\, and sometimes technical spots\, single track trails\, jumping over logs\, creek crossings\, steep ascents and even steeper descents all while enjoying the leaves changing colors. Start and Finish at the historic Shallowford iron bridge spanning the Toccoa River. This race will challenge the most experienced racer and provide a memorable experience for those looking to complete a trail run in the mountains of Blue Ridge. Using the same trails\, there is a 30K and 15K option. NEVER STEP FOOT ON THE SAME TRAIL DURING THIS RACE\, NO OUT AND BACKS OR REPEATS. \nThe race is October 12th in Blue Ridge\, GA. \nSee more at https://www.argeorgia.com/blue-ridge-ultra \nThanks so much!
URL:https://wildtrails.org/event/blue-ridge-ultra-50-30-15k/
ATTACH;FMTTYPE=image/jpeg:https://wildtrails.org/wp-content/uploads/2019/08/blue-ridge-jpeg.jpg
END:VEVENT
END:VCALENDAR