BEGIN:VCALENDAR
VERSION:2.0
PRODID:-//Wild Trails - Chattanooga&#039;s trail protection nonprofit - ECPv6.15.18//NONSGML v1.0//EN
CALSCALE:GREGORIAN
METHOD:PUBLISH
X-WR-CALNAME:Wild Trails - Chattanooga&#039;s trail protection nonprofit
X-ORIGINAL-URL:https://wildtrails.org
X-WR-CALDESC:Events for Wild Trails - Chattanooga&#039;s trail protection nonprofit
REFRESH-INTERVAL;VALUE=DURATION:PT1H
X-Robots-Tag:noindex
X-PUBLISHED-TTL:PT1H
BEGIN:VTIMEZONE
TZID:America/New_York
BEGIN:DAYLIGHT
TZOFFSETFROM:-0500
TZOFFSETTO:-0400
TZNAME:EDT
DTSTART:20180311T070000
END:DAYLIGHT
BEGIN:STANDARD
TZOFFSETFROM:-0400
TZOFFSETTO:-0500
TZNAME:EST
DTSTART:20181104T060000
END:STANDARD
BEGIN:DAYLIGHT
TZOFFSETFROM:-0500
TZOFFSETTO:-0400
TZNAME:EDT
DTSTART:20190310T070000
END:DAYLIGHT
BEGIN:STANDARD
TZOFFSETFROM:-0400
TZOFFSETTO:-0500
TZNAME:EST
DTSTART:20191103T060000
END:STANDARD
BEGIN:DAYLIGHT
TZOFFSETFROM:-0500
TZOFFSETTO:-0400
TZNAME:EDT
DTSTART:20200308T070000
END:DAYLIGHT
BEGIN:STANDARD
TZOFFSETFROM:-0400
TZOFFSETTO:-0500
TZNAME:EST
DTSTART:20201101T060000
END:STANDARD
END:VTIMEZONE
BEGIN:VEVENT
DTSTART;TZID=America/New_York:20191109T080000
DTEND;TZID=America/New_York:20191110T170000
DTSTAMP:20260422T193932
CREATED:20190815T195348Z
LAST-MODIFIED:20190815T195348Z
UID:10000057-1573286400-1573405200@wildtrails.org
SUMMARY:Wilderness First Aid with NOLS and REI November at Outdoor Chattanooga
DESCRIPTION:https://www.rei.com/events/46423/wilderness-first-aid-with-nols-and-rei/212029 \nWhether spending time in the backcountry is your passion or your profession\, you should never have to ask\, \”What do I do now?\” REI is partnering with NOLS to offer a comprehensive 16 hour\, two day course that will teach you the wilderness medicine skills you need to recreate with confidence in the backcountry. In just two days\, you will learn the knowledge\, skills and ability to make sound decisions in emergency situations. From the Patient Assessment System through traumatic\, medical\, and environmental emergencies\, you\’ll experience a wide variety of topics designed to prepare you to act if an accident occurs. This course is ideal for trip leaders\, camp staff\, outdoor enthusiasts and individuals in remote locations. The course includes a 1-hour break midday. Registered 16 -17 year olds must arrive with a completed Release of Liability form\, but do NOT need an accompanying adult. Participants younger than 16 must contact NOLS (Wilderness_Medicine_Admissions@nols.edu) for approval prior to registration. No prerequisites. Successful completion results in a Wilderness First Aid certification. You may be eligible to recertify your NOLS Wilderness Medicine Wilderness Advanced First Aid\, Wilderness First Responder\, or Wilderness EMT (wilderness portion only) certification on this course. Please review NOLS Wilderness Medicine recertification policies (https://www.nols.edu/en/courses/wilderness-medicine/recertify/) prior to registering. \nLearn how to administer first aid in a wilderness context. \nTopics include: \nthe Patient Assessment System\ncreating evacuation plans and wilderness emergency procedures\nspinal cord injuries\nshock\nhead injuries\nwilderness wound management\nathletic injuries\nfracture management\ncold injuries\nheat injuries\naltitude sickness\nlightning\nthe Medical Patient\nAnaphylaxis \nFitness level 1: Relaxed\nSkill level 1: Beginner\nMinimum age: 16 Group size: 30
URL:https://wildtrails.org/event/wilderness-first-aid-with-nols-and-rei-november-at-outdoor-chattanooga/
ATTACH;FMTTYPE=image/jpeg:https://wildtrails.org/wp-content/uploads/2019/08/Wilderness-first-aid-image-1.jpg
END:VEVENT
END:VCALENDAR