BEGIN:VCALENDAR
VERSION:2.0
PRODID:-//Wild Trails - Chattanooga&#039;s trail protection nonprofit - ECPv6.15.18//NONSGML v1.0//EN
CALSCALE:GREGORIAN
METHOD:PUBLISH
X-ORIGINAL-URL:https://wildtrails.org
X-WR-CALDESC:Events for Wild Trails - Chattanooga&#039;s trail protection nonprofit
REFRESH-INTERVAL;VALUE=DURATION:PT1H
X-Robots-Tag:noindex
X-PUBLISHED-TTL:PT1H
BEGIN:VTIMEZONE
TZID:America/New_York
BEGIN:DAYLIGHT
TZOFFSETFROM:-0500
TZOFFSETTO:-0400
TZNAME:EDT
DTSTART:20180311T070000
END:DAYLIGHT
BEGIN:STANDARD
TZOFFSETFROM:-0400
TZOFFSETTO:-0500
TZNAME:EST
DTSTART:20181104T060000
END:STANDARD
BEGIN:DAYLIGHT
TZOFFSETFROM:-0500
TZOFFSETTO:-0400
TZNAME:EDT
DTSTART:20190310T070000
END:DAYLIGHT
BEGIN:STANDARD
TZOFFSETFROM:-0400
TZOFFSETTO:-0500
TZNAME:EST
DTSTART:20191103T060000
END:STANDARD
BEGIN:DAYLIGHT
TZOFFSETFROM:-0500
TZOFFSETTO:-0400
TZNAME:EDT
DTSTART:20200308T070000
END:DAYLIGHT
BEGIN:STANDARD
TZOFFSETFROM:-0400
TZOFFSETTO:-0500
TZNAME:EST
DTSTART:20201101T060000
END:STANDARD
END:VTIMEZONE
BEGIN:VEVENT
DTSTART;TZID=America/New_York:20191117T100000
DTEND;TZID=America/New_York:20191117T140000
DTSTAMP:20260422T193937
CREATED:20190201T195703Z
LAST-MODIFIED:20190201T195703Z
UID:10000053-1573984800-1573999200@wildtrails.org
SUMMARY:Chattanooga Creek Cleanup - November 2019
DESCRIPTION:Join us for another round of the Chattanooga Creek Cleanup! This waterway has potential to be beautiful again\, please help us restore it back to its natural beauty. Any (human powered) water craft welcome\, and we’ll also need help hauling trash from the creek bank.
URL:https://wildtrails.org/event/chattanooga-creek-cleanup-november-2019/
LOCATION:Wild Trails Nature Camp\, 1125 Workman Rd.\, Chattanooga\, TN\, 37410\, United States
ATTACH;FMTTYPE=image/png:https://wildtrails.org/wp-content/uploads/2019/01/Chattanooga-Creek-Cleanup-IMG_0520.png
END:VEVENT
END:VCALENDAR