BEGIN:VCALENDAR
VERSION:2.0
PRODID:-//Wild Trails - Chattanooga&#039;s trail protection nonprofit - ECPv6.15.18//NONSGML v1.0//EN
CALSCALE:GREGORIAN
METHOD:PUBLISH
X-WR-CALNAME:Wild Trails - Chattanooga&#039;s trail protection nonprofit
X-ORIGINAL-URL:https://wildtrails.org
X-WR-CALDESC:Events for Wild Trails - Chattanooga&#039;s trail protection nonprofit
REFRESH-INTERVAL;VALUE=DURATION:PT1H
X-Robots-Tag:noindex
X-PUBLISHED-TTL:PT1H
BEGIN:VTIMEZONE
TZID:America/New_York
BEGIN:DAYLIGHT
TZOFFSETFROM:-0500
TZOFFSETTO:-0400
TZNAME:EDT
DTSTART:20180311T070000
END:DAYLIGHT
BEGIN:STANDARD
TZOFFSETFROM:-0400
TZOFFSETTO:-0500
TZNAME:EST
DTSTART:20181104T060000
END:STANDARD
BEGIN:DAYLIGHT
TZOFFSETFROM:-0500
TZOFFSETTO:-0400
TZNAME:EDT
DTSTART:20190310T070000
END:DAYLIGHT
BEGIN:STANDARD
TZOFFSETFROM:-0400
TZOFFSETTO:-0500
TZNAME:EST
DTSTART:20191103T060000
END:STANDARD
BEGIN:DAYLIGHT
TZOFFSETFROM:-0500
TZOFFSETTO:-0400
TZNAME:EDT
DTSTART:20200308T070000
END:DAYLIGHT
BEGIN:STANDARD
TZOFFSETFROM:-0400
TZOFFSETTO:-0500
TZNAME:EST
DTSTART:20201101T060000
END:STANDARD
BEGIN:DAYLIGHT
TZOFFSETFROM:-0500
TZOFFSETTO:-0400
TZNAME:EDT
DTSTART:20210314T070000
END:DAYLIGHT
BEGIN:STANDARD
TZOFFSETFROM:-0400
TZOFFSETTO:-0500
TZNAME:EST
DTSTART:20211107T060000
END:STANDARD
BEGIN:DAYLIGHT
TZOFFSETFROM:-0500
TZOFFSETTO:-0400
TZNAME:EDT
DTSTART:20220313T070000
END:DAYLIGHT
BEGIN:STANDARD
TZOFFSETFROM:-0400
TZOFFSETTO:-0500
TZNAME:EST
DTSTART:20221106T060000
END:STANDARD
BEGIN:DAYLIGHT
TZOFFSETFROM:-0500
TZOFFSETTO:-0400
TZNAME:EDT
DTSTART:20230312T070000
END:DAYLIGHT
BEGIN:STANDARD
TZOFFSETFROM:-0400
TZOFFSETTO:-0500
TZNAME:EST
DTSTART:20231105T060000
END:STANDARD
BEGIN:DAYLIGHT
TZOFFSETFROM:-0500
TZOFFSETTO:-0400
TZNAME:EDT
DTSTART:20240310T070000
END:DAYLIGHT
BEGIN:STANDARD
TZOFFSETFROM:-0400
TZOFFSETTO:-0500
TZNAME:EST
DTSTART:20241103T060000
END:STANDARD
BEGIN:DAYLIGHT
TZOFFSETFROM:-0500
TZOFFSETTO:-0400
TZNAME:EDT
DTSTART:20250309T070000
END:DAYLIGHT
BEGIN:STANDARD
TZOFFSETFROM:-0400
TZOFFSETTO:-0500
TZNAME:EST
DTSTART:20251102T060000
END:STANDARD
BEGIN:DAYLIGHT
TZOFFSETFROM:-0500
TZOFFSETTO:-0400
TZNAME:EDT
DTSTART:20260308T070000
END:DAYLIGHT
BEGIN:STANDARD
TZOFFSETFROM:-0400
TZOFFSETTO:-0500
TZNAME:EST
DTSTART:20261101T060000
END:STANDARD
BEGIN:DAYLIGHT
TZOFFSETFROM:-0500
TZOFFSETTO:-0400
TZNAME:EDT
DTSTART:20270314T070000
END:DAYLIGHT
BEGIN:STANDARD
TZOFFSETFROM:-0400
TZOFFSETTO:-0500
TZNAME:EST
DTSTART:20271107T060000
END:STANDARD
END:VTIMEZONE
BEGIN:VEVENT
DTSTART;TZID=America/New_York:20191221T073000
DTEND;TZID=America/New_York:20191221T210000
DTSTAMP:20260422T181745
CREATED:20190201T201337Z
LAST-MODIFIED:20190201T201337Z
UID:10000054-1576913400-1576962000@wildtrails.org
SUMMARY:Lookout Mountain 50 Mile\, 18 Mile and 10K Trail Race
DESCRIPTION:The Lookout Mountain trail races begin high atop the mountain at the spectacular Covenant College campus. The course offers a variety of challenging climbs\, highly runnable sections and moderate descents on predominantly single track trails. The 50 and 18 mile races travel together until the end of the 18 and other than a mile or so at the beginning to thin the field out\, there are no roads. Runners traverse beautifully diverse ecosystems in the scenic and historic Chattanooga National Military Park\, the first national military park in the country and passes directly above Craven\’s House and the Battle Above the Clouds\, one of the most decisive battle sites in the Civil War. The course continues on spectacular trails along Lookout Creek to the bottom of the only significant climb of the day. Ending the race for the 18 milers back at Covenant College. The 50 mile runners continue to navigate two exposed bluff lines with fantastic views.
URL:https://wildtrails.org/event/lookout-mountain-50-mile-18-mile-and-10k-trail-race/
LOCATION:Covenant College – Shadowlands Soccer Field\, South Campus Road\, Lookout Mountain\, GA\, 30750\, United States
ATTACH;FMTTYPE=image/jpeg:https://wildtrails.org/wp-content/uploads/2015/01/Lookout-logo.jpg
GEO:34.9551674;-85.3806481
X-APPLE-STRUCTURED-LOCATION;VALUE=URI;X-ADDRESS=Covenant College – Shadowlands Soccer Field South Campus Road Lookout Mountain GA 30750 United States;X-APPLE-RADIUS=500;X-TITLE=South Campus Road:geo:-85.3806481,34.9551674
END:VEVENT
BEGIN:VEVENT
DTSTART;TZID=America/New_York:20200510T100000
DTEND;TZID=America/New_York:20200510T140000
DTSTAMP:20260422T181745
CREATED:20200421T132928Z
LAST-MODIFIED:20200421T132928Z
UID:10000059-1589104800-1589119200@wildtrails.org
SUMMARY:Chattanooga Creek Cleanup - May 10th
DESCRIPTION:Hi Folks! It\’s time again to clean up Chattanooga Creek and put forth more effort to restore it to it\’s natural beauty! We\’ve built the infrastructure to move the waste up the creek bank and dispose of it\, but we need folks who are willing to bring out their canoes (or other watercraft) and help. We have FOUR days planned so far\, RSVP below to get more info and let us know you\’re coming!
URL:https://wildtrails.org/event/chattanooga-creek-cleanup-may-10-2020/
LOCATION:Wild Trails Nature Camp\, 1125 Workman Rd.\, Chattanooga\, TN\, 37410\, United States
ATTACH;FMTTYPE=image/png:https://wildtrails.org/wp-content/uploads/2019/01/Chattanooga-Creek-Cleanup-IMG_0520.png
END:VEVENT
BEGIN:VEVENT
DTSTART;TZID=America/New_York:20210516T100000
DTEND;TZID=America/New_York:20210516T140000
DTSTAMP:20260422T181745
CREATED:20210503T174536Z
LAST-MODIFIED:20210503T174536Z
UID:10000061-1621159200-1621173600@wildtrails.org
SUMMARY:Chattanooga creek cleanup - May 16\, 2021
DESCRIPTION:Greetings Wild Trails Friends\, \n It\’s time again to clean up Chattanooga Creek and put forth more effort to restore it to it\’s natural beauty. We\’ve built the infrastructure to move the waste up the creek bank and dispose of it\, but we need folks who are willing to bring out their canoes\, kayaks or SUP and help.   \nIdeally we would like to have 5 tandem canoe or kayak (2 seater) and 10 solo craft to make sure we don’t crowd one another\, so please sign up now. The two person craft will act as trash bag sherpas to transport the bags of trash to the take out and 10 other craft to get the trash in the bags. \nPlease contact me if you have any questions and we so hope to see you then. \nThank you! \nWild Trails
URL:https://wildtrails.org/event/chattanooga-creek-cleanup-may-16-2021/
LOCATION:Wild Trails Nature Camp\, 1125 Workman Rd.\, Chattanooga\, TN\, 37410\, United States
ATTACH;FMTTYPE=image/jpeg:https://wildtrails.org/wp-content/uploads/2020/05/IMG_0479-1.jpg
END:VEVENT
BEGIN:VEVENT
DTSTART;TZID=America/New_York:20211016T183000
DTEND;TZID=America/New_York:20211016T230000
DTSTAMP:20260422T181745
CREATED:20211005T162355Z
LAST-MODIFIED:20211005T162355Z
UID:10000062-1634409000-1634425200@wildtrails.org
SUMMARY:Run for Their Freedom 5K
DESCRIPTION:Run For Their Freedom is a 5k night race and 1 mile walk to IllumaNight Human Trafficking and bring awareness to the reality of it in our community.
URL:https://wildtrails.org/event/run-for-their-freedom-5k/
ATTACH;FMTTYPE=image/png:https://wildtrails.org/wp-content/uploads/2021/08/race100157-logo.bG4hcx.png
END:VEVENT
BEGIN:VEVENT
DTSTART;TZID=America/New_York:20211211T080000
DTEND;TZID=America/New_York:20211211T170000
DTSTAMP:20260422T181745
CREATED:20211106T194147Z
LAST-MODIFIED:20211106T194147Z
UID:10000063-1639209600-1639242000@wildtrails.org
SUMMARY:Run Run Rudolph
DESCRIPTION:The Run Run Rudolph 5K is a Running race in Chattanooga\, Tennessee consisting of a Kids Run/Fun Run and 5K. Help us support our wonderful community by participating in the Junior League of Chattanooga\’s Run Run Rudolph 5K and Kids Dash! Join us as we walk\, jog\, or run down the Riverwalk\’s recently completed addition- Blue Goose Hollow. The fun includes a free kids 100 meter dash\, music\, games and so much more! The Junior League of Chattanooga is proud to work with the Montessori Elementary at Highland Park. Help us meet our goal of providing every child with a new book for Christmas! We will also be collecting used children\’s book for the Little Free Libraries that we maintain.
URL:https://wildtrails.org/event/run-run-rudolph/
END:VEVENT
BEGIN:VEVENT
DTSTART;TZID=America/New_York:20220515T130000
DTEND;TZID=America/New_York:20220515T160000
DTSTAMP:20260422T181745
CREATED:20210710T144554Z
LAST-MODIFIED:20210710T144554Z
UID:10000060-1652619600-1652630400@wildtrails.org
SUMMARY:Chattanooga Creek Clean Up - May 15
DESCRIPTION:Greetings Wild Trails Friends\, \nIt\’s time again to clean up Chattanooga Creek and put forth more effort to restore it to it\’s natural beauty. We\’ve built the infrastructure to move the waste up the creek bank and dispose of it\, but we need folks who are willing to bring out their canoes\, kayaks or SUP and help. \nIdeally we would like to have 5 tandem canoe or kayak (2 seater) and 10 solo craft to make sure we don’t crowd one another\, so please sign up now. The two person craft will act as trash bag sherpas to transport the bags of trash to the take out and 10 other craft to get the trash in the bags. \nPlease contact me if you have any questions and we so hope to see you then. \nThank you! \nWild Trails \nBig Thank You to Our Event Sponsors!\n  
URL:https://wildtrails.org/event/chattanooga-creek-clean-up-may-15/
LOCATION:Wild Trails Nature Camp\, 1125 Workman Rd.\, Chattanooga\, TN\, 37410\, United States
ATTACH;FMTTYPE=image/jpeg:https://wildtrails.org/wp-content/uploads/2020/05/IMG_0479-1.jpg
END:VEVENT
BEGIN:VEVENT
DTSTART;TZID=America/New_York:20220605T130000
DTEND;TZID=America/New_York:20220605T160000
DTSTAMP:20260422T181745
CREATED:20220518T192349Z
LAST-MODIFIED:20220518T192349Z
UID:10000064-1654434000-1654444800@wildtrails.org
SUMMARY:Chattanooga Creek Clean Up - June 5th
DESCRIPTION:Greetings Wild Trails Friends\, \nIt\’s time again to clean up Chattanooga Creek and put forth more effort to restore it to it\’s natural beauty. We\’ve built the infrastructure to move the waste up the creek bank and dispose of it\, but we need folks who are willing to bring out their canoes\, kayaks or SUP and help. \nIdeally we would like to have 5 tandem canoe or kayak (2 seater) and 10 solo craft to make sure we don’t crowd one another\, so please sign up now. The two person craft will act as trash bag sherpas to transport the bags of trash to the take out and 10 other craft to get the trash in the bags. \nPlease contact me if you have any questions and we so hope to see you then. \nThank you! \nWild Trails \nBig Thank You to Our Event Sponsors!\n\n  
URL:https://wildtrails.org/event/chattanooga-creek-clean-up/
LOCATION:Wild Trails Nature Camp\, 1125 Workman Rd.\, Chattanooga\, TN\, 37410\, United States
ATTACH;FMTTYPE=image/jpeg:https://wildtrails.org/wp-content/uploads/2020/05/IMG_0479-1.jpg
END:VEVENT
BEGIN:VEVENT
DTSTART;TZID=America/New_York:20220703T130000
DTEND;TZID=America/New_York:20220703T160000
DTSTAMP:20260422T181745
CREATED:20220629T203312Z
LAST-MODIFIED:20220629T203312Z
UID:10000065-1656853200-1656864000@wildtrails.org
SUMMARY:Chattanooga Creek Clean Up - July 3rd
DESCRIPTION:Greetings Wild Trails Friends\, \nIt\’s time again to clean up Chattanooga Creek and put forth more effort to restore it to it\’s natural beauty. We\’ve built the infrastructure to move the waste up the creek bank and dispose of it\, but we need folks who are willing to bring out their canoes\, kayaks or SUP and help. \nIdeally we would like to have 5 tandem canoe or kayak (2 seater) and 10 solo craft to make sure we don’t crowd one another\, so please sign up now. The two person craft will act as trash bag sherpas to transport the bags of trash to the take out and 10 other craft to get the trash in the bags. \nPlease contact me if you have any questions and we so hope to see you then. \nThank you! \nWild Trails \nBig Thank You to Our Event Sponsors!\n\n  
URL:https://wildtrails.org/event/chattanooga-creek-clean-up-july-3rd/
LOCATION:Wild Trails Nature Camp\, 1125 Workman Rd.\, Chattanooga\, TN\, 37410\, United States
ATTACH;FMTTYPE=image/jpeg:https://wildtrails.org/wp-content/uploads/2020/05/IMG_0479-1.jpg
END:VEVENT
BEGIN:VEVENT
DTSTART;TZID=America/New_York:20230305T130000
DTEND;TZID=America/New_York:20230305T160000
DTSTAMP:20260422T181745
CREATED:20230217T175554Z
LAST-MODIFIED:20230217T175554Z
UID:10000066-1678021200-1678032000@wildtrails.org
SUMMARY:Chattanooga Creek Clean Up - March 5th
DESCRIPTION:Greetings Wild Trails Friends\, \nIt’s time again to clean up Chattanooga Creek and put forth more effort to restore it to it’s natural beauty. We’ve built the infrastructure to move the waste up the creek bank and dispose of it\, but we need folks who are willing to bring out their canoes\, kayaks or SUP and help. \nIdeally we would like to have 5 tandem canoe or kayak (2 seater) and 10 solo craft to make sure we don’t crowd one another\, so please sign up now. The two person craft will act as trash bag sherpas to transport the bags of trash to the take out and 10 other craft to get the trash in the bags. \nPlease contact me if you have any questions and we so hope to see you then. \nThank you! \nWild Trails \nBig Thank You to Our Event Sponsors!\nRed Bank Location\n  
URL:https://wildtrails.org/event/chattanooga-creek-clean-up-march-5/
LOCATION:Wild Trails Nature Camp\, 1125 Workman Rd.\, Chattanooga\, TN\, 37410\, United States
ATTACH;FMTTYPE=image/jpeg:https://wildtrails.org/wp-content/uploads/2020/05/IMG_0479-1.jpg
END:VEVENT
BEGIN:VEVENT
DTSTART;TZID=America/New_York:20261101T080000
DTEND;TZID=America/New_York:20261101T110000
DTSTAMP:20260422T181745
CREATED:20190201T194843Z
LAST-MODIFIED:20260330T230312Z
UID:10000051-1793520000-1793530800@wildtrails.org
SUMMARY:Urban Nature 10K
DESCRIPTION:Come out Sunday\, November 1\, 2026 at 10:00 AM for a fantastic 10K running experience. This unique and challenging run is half on roads in North Chattanooga and half on the trail at Stringers Ridge\, a treasure in North Chattanooga. The race begins and ends at Coolidge Park under the Market Street Bridge on the Tennessee River\, perhaps the most scenic finish of any race in the city or maybe any city. Come see for yourself.
URL:https://wildtrails.org/event/urban-nature-10k-november-2019/
LOCATION:Coolidge Park\, 150 River St\, Chattanooga\, TN\, 37405\, United States
ATTACH;FMTTYPE=image/jpeg:https://wildtrails.org/wp-content/uploads/2015/01/Urban-Nature-logo.jpg
GEO:35.0613221;-85.3065914
X-APPLE-STRUCTURED-LOCATION;VALUE=URI;X-ADDRESS=Coolidge Park 150 River St Chattanooga TN 37405 United States;X-APPLE-RADIUS=500;X-TITLE=150 River St:geo:-85.3065914,35.0613221
END:VEVENT
END:VCALENDAR