BEGIN:VCALENDAR
VERSION:2.0
PRODID:-//Wild Trails - Chattanooga&#039;s trail protection nonprofit - ECPv6.15.18//NONSGML v1.0//EN
CALSCALE:GREGORIAN
METHOD:PUBLISH
X-WR-CALNAME:Wild Trails - Chattanooga&#039;s trail protection nonprofit
X-ORIGINAL-URL:https://wildtrails.org
X-WR-CALDESC:Events for Wild Trails - Chattanooga&#039;s trail protection nonprofit
REFRESH-INTERVAL;VALUE=DURATION:PT1H
X-Robots-Tag:noindex
X-PUBLISHED-TTL:PT1H
BEGIN:VTIMEZONE
TZID:America/New_York
BEGIN:DAYLIGHT
TZOFFSETFROM:-0500
TZOFFSETTO:-0400
TZNAME:EDT
DTSTART:20170312T070000
END:DAYLIGHT
BEGIN:STANDARD
TZOFFSETFROM:-0400
TZOFFSETTO:-0500
TZNAME:EST
DTSTART:20171105T060000
END:STANDARD
BEGIN:DAYLIGHT
TZOFFSETFROM:-0500
TZOFFSETTO:-0400
TZNAME:EDT
DTSTART:20180311T070000
END:DAYLIGHT
BEGIN:STANDARD
TZOFFSETFROM:-0400
TZOFFSETTO:-0500
TZNAME:EST
DTSTART:20181104T060000
END:STANDARD
BEGIN:DAYLIGHT
TZOFFSETFROM:-0500
TZOFFSETTO:-0400
TZNAME:EDT
DTSTART:20190310T070000
END:DAYLIGHT
BEGIN:STANDARD
TZOFFSETFROM:-0400
TZOFFSETTO:-0500
TZNAME:EST
DTSTART:20191103T060000
END:STANDARD
END:VTIMEZONE
BEGIN:VEVENT
DTSTART;TZID=America/New_York:20180512T080000
DTEND;TZID=America/New_York:20180512T170000
DTSTAMP:20260423T233051
CREATED:20180115T233600Z
LAST-MODIFIED:20180115T233600Z
UID:10000018-1526112000-1526144400@wildtrails.org
SUMMARY:Scenic City Trail Marathon\, 1/2 Marathon\, & 5K
DESCRIPTION:The Scenic City Trail Marathon is no longer flat and fast\, relative to eastern TN. We have decided to add the new Live Wire trail to the marathon course. This makes the race a bit more difficult\, but not by much\, and gives even more beautiful views for runners to experience. The trails at Raccoon Mountain are still mostly fast and forgiving\, making for a leisurely race for new trail runners or a full on speed-fest for those hunting for non-technical trails.
URL:https://wildtrails.org/event/scenic-city-trail-marathon-1-2-marathon-5k/
END:VEVENT
BEGIN:VEVENT
DTSTART;TZID=America/New_York:20180519T100000
DTEND;TZID=America/New_York:20180519T170000
DTSTAMP:20260423T233051
CREATED:20180204T164314Z
LAST-MODIFIED:20180204T164314Z
UID:10000028-1526724000-1526749200@wildtrails.org
SUMMARY:Little Owl Festival 5K
DESCRIPTION:This race is a fantastic introduction to trail running for the novice and other than one hill\, it is a flat and fast course for the speed demons looking to set a personal best time. The course is 100% on dirt trail with the exception of a suspension bridge over South Chickamauga Creek. This event is open to anyone traveling at any speed. Hikers are most welcome and there are separate awards for the hikers. The run/hike will be followed by post race snacks\, beverages and free admission to the Little Owl Festival.
URL:https://wildtrails.org/event/little-owl-festival-5k/
LOCATION:Audubon Acres\, 900 N Sanctuary Rd\, Chattanooga\, TN\, 37421\, United States
ATTACH;FMTTYPE=image/png:https://wildtrails.org/wp-content/uploads/2018/02/little_owl_color_final.png
GEO:34.999551;-85.1804437
X-APPLE-STRUCTURED-LOCATION;VALUE=URI;X-ADDRESS=Audubon Acres 900 N Sanctuary Rd Chattanooga TN 37421 United States;X-APPLE-RADIUS=500;X-TITLE=900 N Sanctuary Rd:geo:-85.1804437,34.999551
END:VEVENT
BEGIN:VEVENT
DTSTART;TZID=America/New_York:20180525T180000
DTEND;TZID=America/New_York:20180526T180000
DTSTAMP:20260423T233051
CREATED:20180115T233823Z
LAST-MODIFIED:20180115T233823Z
UID:10000020-1527271200-1527357600@wildtrails.org
SUMMARY:Chattanooga Trail Relay
DESCRIPTION:Join us at Enterprise South Nature Park for a 97-mile trail relay!
URL:https://wildtrails.org/event/chattanooga-trail-relay/
LOCATION:Enterprise South Nature Park
END:VEVENT
END:VCALENDAR