BEGIN:VCALENDAR
VERSION:2.0
PRODID:-//Wild Trails - Chattanooga&#039;s trail protection nonprofit - ECPv6.15.18//NONSGML v1.0//EN
CALSCALE:GREGORIAN
METHOD:PUBLISH
X-WR-CALNAME:Wild Trails - Chattanooga&#039;s trail protection nonprofit
X-ORIGINAL-URL:https://wildtrails.org
X-WR-CALDESC:Events for Wild Trails - Chattanooga&#039;s trail protection nonprofit
REFRESH-INTERVAL;VALUE=DURATION:PT1H
X-Robots-Tag:noindex
X-PUBLISHED-TTL:PT1H
BEGIN:VTIMEZONE
TZID:America/Chicago
BEGIN:DAYLIGHT
TZOFFSETFROM:-0600
TZOFFSETTO:-0500
TZNAME:CDT
DTSTART:20180311T080000
END:DAYLIGHT
BEGIN:STANDARD
TZOFFSETFROM:-0500
TZOFFSETTO:-0600
TZNAME:CST
DTSTART:20181104T070000
END:STANDARD
BEGIN:DAYLIGHT
TZOFFSETFROM:-0600
TZOFFSETTO:-0500
TZNAME:CDT
DTSTART:20190310T080000
END:DAYLIGHT
BEGIN:STANDARD
TZOFFSETFROM:-0500
TZOFFSETTO:-0600
TZNAME:CST
DTSTART:20191103T070000
END:STANDARD
BEGIN:DAYLIGHT
TZOFFSETFROM:-0600
TZOFFSETTO:-0500
TZNAME:CDT
DTSTART:20200308T080000
END:DAYLIGHT
BEGIN:STANDARD
TZOFFSETFROM:-0500
TZOFFSETTO:-0600
TZNAME:CST
DTSTART:20201101T070000
END:STANDARD
END:VTIMEZONE
BEGIN:VEVENT
DTSTART;TZID=America/Chicago:20190119T090000
DTEND;TZID=America/Chicago:20190119T120000
DTSTAMP:20260423T085308
CREATED:20181130T143305Z
LAST-MODIFIED:20181130T143305Z
UID:10000030-1547888400-1547899200@wildtrails.org
SUMMARY:Frigid 5k Trail Run & Polar Plunge
DESCRIPTION:The Frigid 5k Trail Run and Polar Plunge is hosted by Camp Maranatha located in Scottsboro\, Alabama\, along the shores of Lake Guntersville on the Tennessee River. Race proceeds benefit Camp Maranatha\’s purpose to facilitate positive life change in all who come whether as camper\, guest\, or staff. The Frigid 5k is comprised of three distinct events: the Frigid 5k Trail Run\, the Frigid 5k 1 Mile Fun Run\, and the Frigid 5k Polar Plunge. \nThe Frigid 5k course is a loop entirely on camp property and is comprised of trail\, grass\, and gravel. The course begins at the center of camp. Runners start on the gravel camp road and make their way counter-clockwise around the loop. The initial climb to the ridge is gradual and long. It levels out in the woods along the ridge before descending down to the center of camp. At the base\, runners turn around and go back into the woods running the same route but in the opposite direction. \nThe Frigid 5k 1 Mile Fun Run is a flat route on the camp\’s gravel road. Partipants run/walk/jog half a mile to Three Crosses\, one of camp\’s outdoor chapels overlooking Lake Guntersville\, and then turn around to return the half mile back to the center of camp. \nThe Frigid 5k Polar Plunge is optional. We encourage runners to jump from the camp dock at a given time into the cool January waters of the Tennessee River. \nThe Swag and Awards\n1. Frigid 5k t-shirts for all 5k and 1 Mile Fun Run participants. Race Day registrations are not guaranteed a shirt.\n2. Finisher medals for all who finish the 5k.\n3. Awards for top male and female 5k finishers and for top male and female masters (40 and over) 5k finishers.\n4. Frigid 5k hand towels for those who take the plunge! \nSchedule of Events\nFriday\, January 18\nPacket pick up and late registration. Two locations:\nFleet Feet Sports\, 2722 Carl T. Jones Dr. SE\, Huntsville\, AL 35802 (Times TBD)\nAnytime Fitness\, 1513 S Broad St\, Scottsboro\, AL 35768 (Times TBD) \nSaturday January 19\n7:30-8:30 am Race day packet pick up and late registration on race day.\n9:00 am Frigid 5k Trail Run\n10:00 am Awards Ceremony\n10:30 am Frigid 5k 1 Mile Fun Run\n11:00 am Polar Plunge (optional)
URL:https://wildtrails.org/event/frigid-5k-trail-run-polar-plunge/
ATTACH;FMTTYPE=image/png:https://wildtrails.org/wp-content/uploads/2018/10/Maranatha_logo_2016.png
END:VEVENT
END:VCALENDAR